BEGIN:VCALENDAR
VERSION:2.0
PRODID:-//eventon.com NONSGML v1.0//EN
BEGIN:VEVENT
UID:69eba71ca393f
DTSTAMP:20260424T192340
DTSTART:20240523T220000Z
DTEND:20240523T220000Z
LOCATION:LLERENA (BADAJOZ) CENTRO CULTURAL "LA MERCED" 
SUMMARY:LA ISLA
DESCRIPTION: LA ISLA
URL:https://histrionteatro.es/events/la-isla-38/
END:VEVENT
END:VCALENDAR