BEGIN:VCALENDAR
VERSION:2.0
PRODID:-//eventon.com NONSGML v1.0//EN
BEGIN:VEVENT
UID:69e91ca1e4d9e
DTSTAMP:20260422T210817
DTSTART:20241108T220000Z
DTEND:20241108T220000Z
LOCATION:Muskiz\,  Vizcaya 
SUMMARY:EL MUEBLE
DESCRIPTION: EL MUEBLE
URL:https://histrionteatro.es/events/el-mueble-74/
END:VEVENT
END:VCALENDAR