BEGIN:VCALENDAR
VERSION:2.0
PRODID:-//eventon.com NONSGML v1.0//EN
BEGIN:VEVENT
UID:69e4fbf2e1480
DTSTAMP:20260419T175946
DTSTART:20230921T220000Z
DTEND:20230921T220000Z
LOCATION:BERMILLO DE SAYAGO (ZAMORA). Casa de Cultura (Antigua Cárcel) BERMILLO DE SAYAGO (ZAMORA). Casa de Cultura (Antigua Cárcel)
SUMMARY:EL MUEBLE
DESCRIPTION: EL MUEBLE
URL:https://histrionteatro.es/events/el-mueble-68/
END:VEVENT
END:VCALENDAR