BEGIN:VCALENDAR
VERSION:2.0
PRODID:-//eventon.com NONSGML v1.0//EN
BEGIN:VEVENT
UID:69e5b7a8f4201
DTSTAMP:20260420T072041
DTSTART:20240315T220000Z
DTEND:20240315T220000Z
LOCATION:Santurzi (Bilbao) Serantes Kultur Aretoa 
SUMMARY:NEVENKA
DESCRIPTION: NEVENKA
URL:https://histrionteatro.es/events/nevenka-22/
END:VEVENT
END:VCALENDAR