BEGIN:VCALENDAR
VERSION:2.0
PRODID:-//eventon.com NONSGML v1.0//EN
BEGIN:VEVENT
UID:69eb478b850b4
DTSTAMP:20260424T123555
DTSTART:20220331T220000Z
DTEND:20220331T220000Z
LOCATION:La Laguna (Tenerife) Teatro Leal 
SUMMARY:El Mueble
DESCRIPTION: El Mueble
URL:https://histrionteatro.es/events/el-mueble-19/
END:VEVENT
END:VCALENDAR