BEGIN:VCALENDAR
VERSION:2.0
PRODID:-//eventon.com NONSGML v1.0//EN
BEGIN:VEVENT
UID:69e9543a06c52
DTSTAMP:20260423T010530
DTSTART:20211216T180000Z
DTEND:20211215T220000Z
LOCATION:LEON (AUDITORIO) LEON (AUDITORIO)
SUMMARY:El Mueble
DESCRIPTION: El Mueble
URL:https://histrionteatro.es/events/el-mueble-10/
END:VEVENT
END:VCALENDAR